BEGIN:VCALENDAR
VERSION:2.0
PRODID:-//Avery Natal Memorial Scholarship Foundation - ECPv6.15.20//NONSGML v1.0//EN
CALSCALE:GREGORIAN
METHOD:PUBLISH
X-ORIGINAL-URL:https://averynatalfoundation.org
X-WR-CALDESC:Events for Avery Natal Memorial Scholarship Foundation
REFRESH-INTERVAL;VALUE=DURATION:PT1H
X-Robots-Tag:noindex
X-PUBLISHED-TTL:PT1H
BEGIN:VTIMEZONE
TZID:America/Chicago
BEGIN:DAYLIGHT
TZOFFSETFROM:-0600
TZOFFSETTO:-0500
TZNAME:CDT
DTSTART:20250309T080000
END:DAYLIGHT
BEGIN:STANDARD
TZOFFSETFROM:-0500
TZOFFSETTO:-0600
TZNAME:CST
DTSTART:20251102T070000
END:STANDARD
BEGIN:DAYLIGHT
TZOFFSETFROM:-0600
TZOFFSETTO:-0500
TZNAME:CDT
DTSTART:20260308T080000
END:DAYLIGHT
BEGIN:STANDARD
TZOFFSETFROM:-0500
TZOFFSETTO:-0600
TZNAME:CST
DTSTART:20261101T070000
END:STANDARD
BEGIN:DAYLIGHT
TZOFFSETFROM:-0600
TZOFFSETTO:-0500
TZNAME:CDT
DTSTART:20270314T080000
END:DAYLIGHT
BEGIN:STANDARD
TZOFFSETFROM:-0500
TZOFFSETTO:-0600
TZNAME:CST
DTSTART:20271107T070000
END:STANDARD
END:VTIMEZONE
BEGIN:VEVENT
DTSTART;TZID=America/Chicago:20260523T080000
DTEND;TZID=America/Chicago:20260523T120000
DTSTAMP:20260422T172418
CREATED:20260319T233326Z
LAST-MODIFIED:20260323T220227Z
UID:30499-1779523200-1779537600@averynatalfoundation.org
SUMMARY:Avery Natal Memorial Scholarship Foundation 5th Annual Race
DESCRIPTION:$35 Registration Includes:\n\n(1) Race Shirt (To receive a shirt prior to race day\, your registration must be paid by the cutoff date of May 3rd\n(1) Avery Band\n(1) Raffle Ticket (Chance to win 1 of over 50 door prizes)\nBeer\, Mimosas\, and Powerade by Southside Café\nWater by Kentwood Water & Krewe of Titans\nPulled pork wraps by Krewe of Dionysus\nJambalaya by Krewe of Dionysus\nMusic by DJ Super Steve Scott\nBalloon release\n\nThe First (100) registered runners will also receive: \n\n(1) Rusty Pelican Free Cheese Fry Coupon\n(1) Texas Roadhouse Free Appetizer Coupon\nThis is a combined value of over $25.00 in coupons\n\nSnowballs sold by\nRetro Sneaux\, Slidell\, LA
URL:https://averynatalfoundation.org/event/5th-annual-race/
LOCATION:Race Location\, 300 Johnny F Smith Blvd.\, Slidell\, LA\, 70460\, United States
CATEGORIES:Annual Race
ATTACH;FMTTYPE=image/jpeg:https://averynatalfoundation.org/wp-content/uploads/2022/11/Avery-Natal-Foundation-1.jpg
END:VEVENT
END:VCALENDAR