BEGIN:VCALENDAR
VERSION:2.0
PRODID:-//Avery Natal Memorial Scholarship Foundation - ECPv6.15.20//NONSGML v1.0//EN
CALSCALE:GREGORIAN
METHOD:PUBLISH
X-WR-CALNAME:Avery Natal Memorial Scholarship Foundation
X-ORIGINAL-URL:https://averynatalfoundation.org
X-WR-CALDESC:Events for Avery Natal Memorial Scholarship Foundation
REFRESH-INTERVAL;VALUE=DURATION:PT1H
X-Robots-Tag:noindex
X-PUBLISHED-TTL:PT1H
BEGIN:VTIMEZONE
TZID:America/Chicago
BEGIN:DAYLIGHT
TZOFFSETFROM:-0600
TZOFFSETTO:-0500
TZNAME:CDT
DTSTART:20220313T080000
END:DAYLIGHT
BEGIN:STANDARD
TZOFFSETFROM:-0500
TZOFFSETTO:-0600
TZNAME:CST
DTSTART:20221106T070000
END:STANDARD
BEGIN:DAYLIGHT
TZOFFSETFROM:-0600
TZOFFSETTO:-0500
TZNAME:CDT
DTSTART:20230312T080000
END:DAYLIGHT
BEGIN:STANDARD
TZOFFSETFROM:-0500
TZOFFSETTO:-0600
TZNAME:CST
DTSTART:20231105T070000
END:STANDARD
BEGIN:DAYLIGHT
TZOFFSETFROM:-0600
TZOFFSETTO:-0500
TZNAME:CDT
DTSTART:20240310T080000
END:DAYLIGHT
BEGIN:STANDARD
TZOFFSETFROM:-0500
TZOFFSETTO:-0600
TZNAME:CST
DTSTART:20241103T070000
END:STANDARD
BEGIN:DAYLIGHT
TZOFFSETFROM:-0600
TZOFFSETTO:-0500
TZNAME:CDT
DTSTART:20250309T080000
END:DAYLIGHT
BEGIN:STANDARD
TZOFFSETFROM:-0500
TZOFFSETTO:-0600
TZNAME:CST
DTSTART:20251102T070000
END:STANDARD
BEGIN:DAYLIGHT
TZOFFSETFROM:-0600
TZOFFSETTO:-0500
TZNAME:CDT
DTSTART:20260308T080000
END:DAYLIGHT
BEGIN:STANDARD
TZOFFSETFROM:-0500
TZOFFSETTO:-0600
TZNAME:CST
DTSTART:20261101T070000
END:STANDARD
END:VTIMEZONE
BEGIN:VEVENT
DTSTART;TZID=America/Chicago:20250524T080000
DTEND;TZID=America/Chicago:20250524T110000
DTSTAMP:20260422T112102
CREATED:20250309T160601Z
LAST-MODIFIED:20250505T152056Z
UID:29714-1748073600-1748084400@averynatalfoundation.org
SUMMARY:Avery Natal Memorial Scholarship Foundation 4th Annual Race
DESCRIPTION:(1) Race Shirt (To receive a shirt prior to race day\, your registration must be paid by the cutoff date of May 4th\n(1) Avery Band\n(1) Raffle Ticket (Chance to win 1 of over 50 door prizes)\nBeer\, Mimosas\, and Powerade by Southside Café\nWater by Kentwood Water & Krewe of Titans\nPulled pork wraps by Krewe of Dionysus\nJambalaya by Krewe of Dionysus\nMusic by DJ Super Steve Scott\nBalloon release\n\nThe First (100) registered runners will also receive: \n\n(1) Rusty Pelican Free Cheese Fry Coupon\n(1) Texas Roadhouse Free Appetizer Coupon\nThis is a combined value of over $25.00 in coupons\n\nSnowballs sold by\nRetro Sneaux\, Slidell\, LA
URL:https://averynatalfoundation.org/event/4th-annual-race/
LOCATION:Race Location\, 300 Johnny F Smith Blvd.\, Slidell\, LA\, 70460\, United States
CATEGORIES:Annual Race
ATTACH;FMTTYPE=image/jpeg:https://averynatalfoundation.org/wp-content/uploads/2022/11/Avery-Natal-Foundation-1.jpg
END:VEVENT
BEGIN:VEVENT
DTSTART;TZID=America/Chicago:20240525T080000
DTEND;TZID=America/Chicago:20240525T120000
DTSTAMP:20260422T112102
CREATED:20240304T232226Z
LAST-MODIFIED:20240305T212244Z
UID:28918-1716624000-1716638400@averynatalfoundation.org
SUMMARY:Avery Natal Memorial Scholarship Foundation 3rd Annual Race
DESCRIPTION:$35 Registration Includes: \n\n(1) Race Shirt (To receive a shirt prior to race day\, your registration must be paid by the cutoff date of May 10th\n(1) Avery Band\n(1) Raffle Ticket (Chance to win 1 of over 50 door prizes)\nBeer & Mimosas\nPowerade & Water\nPulled Pork Wraps\nJambalaya\nMusic\nBalloon Release\n\nThe First (200) registered runners will also receive: \n\n(1) Outback Steakhouse Free Blooming Onion Coupon\n(1) Texas Roadhouse Free Appetizer Coupon\nThis is a combined value of over $25.00 in coupons\n\n 
URL:https://averynatalfoundation.org/event/avery-natal-memorial-scholarship-foundation-3rd-annual-race/
LOCATION:Race Location\, 300 Johnny F Smith Blvd.\, Slidell\, LA\, 70460\, United States
CATEGORIES:Annual Race
ATTACH;FMTTYPE=image/jpeg:https://averynatalfoundation.org/wp-content/uploads/2022/11/Avery-Natal-Foundation-1.jpg
END:VEVENT
BEGIN:VEVENT
DTSTART;TZID=America/Chicago:20230527T080000
DTEND;TZID=America/Chicago:20230527T120000
DTSTAMP:20260422T112102
CREATED:20230227T233326Z
LAST-MODIFIED:20230510T160205Z
UID:27746-1685174400-1685188800@averynatalfoundation.org
SUMMARY:Avery Natal Memorial Scholarship Foundation 2nd Annual Race
DESCRIPTION:Date: Saturday May 27\, 2023 \nCheck In: 8:00am\nStart Time: 8:30am\nAddress: XS MAD Martial Arts Dojo 316 Johnny F Smith Ave. Slidell\, LA 70460 \n$35 Registration Includes: \n\n(1) Race Shirt (To receive a Shirt prior to race day your registration must be paid by the cutoff date of May 12th.\n(1) Avery Band\n(1) Raffle Ticket (Chance to win a doors prize from over 50 plus prizes)\nBeer & Mimosas\nPowerade and Water\nPulled Pork Sliders & Jambalaya
URL:https://averynatalfoundation.org/event/avery-natal-memorial-scholarship-foundation-2nd-annual-race/
LOCATION:XS MAD Martial Arts Dojo\, 316 Johnny F Smith Ave.\, Slidell\, Louisiana\, 70460
CATEGORIES:Annual Race
ATTACH;FMTTYPE=image/jpeg:https://averynatalfoundation.org/wp-content/uploads/2022/11/Avery-Natal-Foundation-1.jpg
END:VEVENT
END:VCALENDAR